BEGIN:VCALENDAR
VERSION:2.0
PRODID:-//Sutton United Football Club - ECPv6.15.12.2//NONSGML v1.0//EN
CALSCALE:GREGORIAN
METHOD:PUBLISH
X-WR-CALNAME:Sutton United Football Club
X-ORIGINAL-URL:https://www.suttonunited.net
X-WR-CALDESC:Events for Sutton United Football Club
REFRESH-INTERVAL;VALUE=DURATION:PT1H
X-Robots-Tag:noindex
X-PUBLISHED-TTL:PT1H
BEGIN:VTIMEZONE
TZID:UTC
BEGIN:STANDARD
TZOFFSETFROM:+0000
TZOFFSETTO:+0000
TZNAME:UTC
DTSTART:20180101T000000
END:STANDARD
END:VTIMEZONE
BEGIN:VEVENT
DTSTART;TZID=UTC:20190125T193000
DTEND;TZID=UTC:20190125T233000
DTSTAMP:20260425T231052
CREATED:20190123T143402Z
LAST-MODIFIED:20190123T143402Z
UID:17280-1548444600-1548459000@www.suttonunited.net
SUMMARY:Boom Boom Club - Small Fakers & Faces Experience
DESCRIPTION:
URL:https://www.suttonunited.net/event/boom-boom-club-small-fakers-faces-experience/
LOCATION:Knights Community Stadium\, Gander Green Lane\, London Borough of Sutton\, SM1 2EY\, United Kingdom
CATEGORIES:Boom Boom Club
END:VEVENT
BEGIN:VEVENT
DTSTART;TZID=UTC:20190126T193000
DTEND;TZID=UTC:20190126T233000
DTSTAMP:20260425T231052
CREATED:20190123T143938Z
LAST-MODIFIED:20190123T143938Z
UID:17282-1548531000-1548545400@www.suttonunited.net
SUMMARY:Boom Boom Club - Annual Junior Wells Memorial Show
DESCRIPTION:
URL:https://www.suttonunited.net/event/boom-boom-club-annual-junior-wells-memorial-show/
LOCATION:Knights Community Stadium\, Gander Green Lane\, London Borough of Sutton\, SM1 2EY\, United Kingdom
CATEGORIES:Boom Boom Club
END:VEVENT
END:VCALENDAR