BEGIN:VCALENDAR
VERSION:2.0
PRODID:-//Sutton United Football Club - ECPv6.15.12.2//NONSGML v1.0//EN
CALSCALE:GREGORIAN
METHOD:PUBLISH
X-ORIGINAL-URL:https://www.suttonunited.net
X-WR-CALDESC:Events for Sutton United Football Club
REFRESH-INTERVAL;VALUE=DURATION:PT1H
X-Robots-Tag:noindex
X-PUBLISHED-TTL:PT1H
BEGIN:VTIMEZONE
TZID:UTC
BEGIN:STANDARD
TZOFFSETFROM:+0000
TZOFFSETTO:+0000
TZNAME:UTC
DTSTART:20180101T000000
END:STANDARD
END:VTIMEZONE
BEGIN:VEVENT
DTSTART;TZID=UTC:20190208T193000
DTEND;TZID=UTC:20190208T233000
DTSTAMP:20260425T215033
CREATED:20190123T145017Z
LAST-MODIFIED:20190123T145137Z
UID:17287-1549654200-1549668600@www.suttonunited.net
SUMMARY:Boom Boom Club - Steve Eggs Band + Special Guests
DESCRIPTION:
URL:https://www.suttonunited.net/event/boom-boom-club-steve-eggs-band-special-guests/
LOCATION:Knights Community Stadium\, Gander Green Lane\, London Borough of Sutton\, SM1 2EY\, United Kingdom
CATEGORIES:Boom Boom Club
END:VEVENT
BEGIN:VEVENT
DTSTART;TZID=UTC:20190215T193000
DTEND;TZID=UTC:20190215T233000
DTSTAMP:20260425T215033
CREATED:20190123T145108Z
LAST-MODIFIED:20190123T145108Z
UID:17289-1550259000-1550273400@www.suttonunited.net
SUMMARY:Boom Boom Club - The Mods
DESCRIPTION:
URL:https://www.suttonunited.net/event/boom-boom-club-the-mods/
LOCATION:Knights Community Stadium\, Gander Green Lane\, London Borough of Sutton\, SM1 2EY\, United Kingdom
CATEGORIES:Boom Boom Club
END:VEVENT
BEGIN:VEVENT
DTSTART;TZID=UTC:20190222T193000
DTEND;TZID=UTC:20190222T233000
DTSTAMP:20260425T215033
CREATED:20190123T150624Z
LAST-MODIFIED:20190123T150624Z
UID:17291-1550863800-1550878200@www.suttonunited.net
SUMMARY:Boom Boom Club - 3rd Rocking R+B Festival
DESCRIPTION:
URL:https://www.suttonunited.net/event/boom-boom-club-3rd-rocking-rb-festival/
LOCATION:Knights Community Stadium\, Gander Green Lane\, London Borough of Sutton\, SM1 2EY\, United Kingdom
CATEGORIES:Boom Boom Club
END:VEVENT
END:VCALENDAR