BEGIN:VCALENDAR
VERSION:2.0
PRODID:-//Sutton United Football Club - ECPv6.15.12.2//NONSGML v1.0//EN
CALSCALE:GREGORIAN
METHOD:PUBLISH
X-ORIGINAL-URL:https://www.suttonunited.net
X-WR-CALDESC:Events for Sutton United Football Club
REFRESH-INTERVAL;VALUE=DURATION:PT1H
X-Robots-Tag:noindex
X-PUBLISHED-TTL:PT1H
BEGIN:VTIMEZONE
TZID:UTC
BEGIN:STANDARD
TZOFFSETFROM:+0000
TZOFFSETTO:+0000
TZNAME:UTC
DTSTART:20180101T000000
END:STANDARD
END:VTIMEZONE
BEGIN:VEVENT
DTSTART;TZID=UTC:20190405T193000
DTEND;TZID=UTC:20190405T233000
DTSTAMP:20260425T182706
CREATED:20190205T150033Z
LAST-MODIFIED:20190205T150033Z
UID:17553-1554492600-1554507000@www.suttonunited.net
SUMMARY:Boom Boom Cub - Hats Off To Led-Zeppelin
DESCRIPTION:
URL:https://www.suttonunited.net/event/boom-boom-cub-hats-off-to-led-zeppelin/
LOCATION:Knights Community Stadium\, Gander Green Lane\, London Borough of Sutton\, SM1 2EY\, United Kingdom
CATEGORIES:Boom Boom Club
END:VEVENT
BEGIN:VEVENT
DTSTART;TZID=UTC:20190412T193000
DTEND;TZID=UTC:20190412T233000
DTSTAMP:20260425T182706
CREATED:20190306T133556Z
LAST-MODIFIED:20190306T133556Z
UID:17874-1555097400-1555111800@www.suttonunited.net
SUMMARY:Boom Boom Club - The ELO Encounter
DESCRIPTION:Blue Sky Tour\nLooking forward to bringing the live ELO Encounter show back to the Boom Boom Club in Sutton in 2019. \nRoll over Beethoven\, because the greatest tribute to Jeff Lynne’s Electric Light Orchestra is here! In an all live show featuring soaring strings\, striking vocal harmonies and playing all the much-loved songs from ELO’s hit-filled library including Evil Woman\, Telephone Line and Don’t Bring Me Down. The ELO Encounter promises a night filled with rock\, roll and Blue Skies that would make even Mozart mambo and Bach boogie! So Hold On Tight because Rock and Roll Is King in a show that is guaranteed to have you partying All Over The World.
URL:https://www.suttonunited.net/event/boom-boom-club-the-elo-encounter/
LOCATION:Knights Community Stadium\, Gander Green Lane\, London Borough of Sutton\, SM1 2EY\, United Kingdom
CATEGORIES:Boom Boom Club
END:VEVENT
BEGIN:VEVENT
DTSTART;TZID=UTC:20190419T193000
DTEND;TZID=UTC:20190419T233000
DTSTAMP:20260425T182706
CREATED:20190306T134320Z
LAST-MODIFIED:20190306T134320Z
UID:17877-1555702200-1555716600@www.suttonunited.net
SUMMARY:Boom Boom Club - Rollin' Stoned  Good Friday Special
DESCRIPTION:Endorsed by Keith Richards’ mother as ‘outstanding and suitably fit stand-ins for the Stones’\, The Rollin Stoned have also been described by The Times as “The nearest thing to the real article” and have been revered by both Stones fans for their authenticity and the real Stones who booked them for the band’s birthday. \n\nFamed Rock and Stones photographer Gerard Mankowitz also concurs calling the band ‘Just like the real thing’.\nThe costumes are shamelessly camp\, gaudy and fab\, the instruments genuinely vintage and the wit irreverent\, but the ‘tongue in cheek’ approach is never at the expense of the music. This is a band with a genuine passion for the music. \nTickets: \nAdvance: £13 \nOn the door: £15 \nVisit: http://feenstra.co.uk/boomboom/ to buy tickets online.
URL:https://www.suttonunited.net/event/boom-boom-club-rollin-stoned-good-friday-special/
LOCATION:Knights Community Stadium\, Gander Green Lane\, London Borough of Sutton\, SM1 2EY\, United Kingdom
CATEGORIES:Boom Boom Club
END:VEVENT
END:VCALENDAR