BEGIN:VCALENDAR
VERSION:2.0
PRODID:-//Sutton United Football Club - ECPv6.15.12.2//NONSGML v1.0//EN
CALSCALE:GREGORIAN
METHOD:PUBLISH
X-ORIGINAL-URL:https://www.suttonunited.net
X-WR-CALDESC:Events for Sutton United Football Club
REFRESH-INTERVAL;VALUE=DURATION:PT1H
X-Robots-Tag:noindex
X-PUBLISHED-TTL:PT1H
BEGIN:VTIMEZONE
TZID:UTC
BEGIN:STANDARD
TZOFFSETFROM:+0000
TZOFFSETTO:+0000
TZNAME:UTC
DTSTART:20170101T000000
END:STANDARD
END:VTIMEZONE
BEGIN:VEVENT
DTSTART;TZID=UTC:20180402T150000
DTEND;TZID=UTC:20180402T170000
DTSTAMP:20260424T201021
CREATED:20180308T184615Z
LAST-MODIFIED:20180308T184615Z
UID:12434-1522681200-1522688400@www.suttonunited.net
SUMMARY:Easter Monday Football : First Team home vs Bromley
DESCRIPTION:5 National League games to go and today we host Bromley on Bank Holiday Monday.
URL:https://www.suttonunited.net/event/easter-monday-football-first-team-home-vs-bromley/
LOCATION:Knights Community Stadium\, Gander Green Lane\, London Borough of Sutton\, SM1 2EY\, United Kingdom
CATEGORIES:First Team Fixture
END:VEVENT
BEGIN:VEVENT
DTSTART;TZID=UTC:20180407T150000
DTEND;TZID=UTC:20180407T170000
DTSTAMP:20260424T201021
CREATED:20180308T185137Z
LAST-MODIFIED:20180308T185137Z
UID:12436-1523113200-1523120400@www.suttonunited.net
SUMMARY:First team away to AFC Fylde
DESCRIPTION:4 National League games to go !  Come support the U’s away to AFC Fylde
URL:https://www.suttonunited.net/event/first-team-away-to-afc-fylde/
LOCATION:AFC Fylde\, Mill Farm Sports Village\, Coronation Way\, Wesham\, PR4 3JZ\, United Kingdom
CATEGORIES:First Team Fixture
END:VEVENT
BEGIN:VEVENT
DTSTART;TZID=UTC:20180414T150000
DTEND;TZID=UTC:20180414T170000
DTSTAMP:20260424T201021
CREATED:20180308T185251Z
LAST-MODIFIED:20180308T185356Z
UID:12439-1523718000-1523725200@www.suttonunited.net
SUMMARY:First team home to Hartlepool United
DESCRIPTION:3 games to go and the U’s host Hartlepool United in the National League
URL:https://www.suttonunited.net/event/first-team-home-to-hartlepool-united/
LOCATION:Knights Community Stadium\, Gander Green Lane\, London Borough of Sutton\, SM1 2EY\, United Kingdom
CATEGORIES:First Team Fixture
END:VEVENT
BEGIN:VEVENT
DTSTART;TZID=UTC:20180421T150000
DTEND;TZID=UTC:20180421T170000
DTSTAMP:20260424T201021
CREATED:20180308T185806Z
LAST-MODIFIED:20180308T185806Z
UID:12442-1524322800-1524330000@www.suttonunited.net
SUMMARY:First team away to Ebbsfleet United
DESCRIPTION:The final away League game of the season\, travel with the U’s to Essex
URL:https://www.suttonunited.net/event/first-team-away-to-ebbsfleet-united/
LOCATION:Ebbsfleet United\, The Kuflink Stadium\, Stonebridge Road\,\, Northfleet\, Essex\, DA11 9GN\, United Kingdom
CATEGORIES:First Team Fixture
END:VEVENT
BEGIN:VEVENT
DTSTART;TZID=UTC:20180428T150000
DTEND;TZID=UTC:20180428T170000
DTSTAMP:20260424T201021
CREATED:20180308T190126Z
LAST-MODIFIED:20180308T190151Z
UID:12445-1524927600-1524934800@www.suttonunited.net
SUMMARY:Last First team game of the season !
DESCRIPTION:and we are HOME against fellow high fliers Aldershot Town
URL:https://www.suttonunited.net/event/last-first-team-game-of-the-season/
LOCATION:Knights Community Stadium\, Gander Green Lane\, London Borough of Sutton\, SM1 2EY\, United Kingdom
CATEGORIES:First Team Fixture
END:VEVENT
END:VCALENDAR