BEGIN:VCALENDAR
VERSION:2.0
PRODID:-//Sutton United Football Club - ECPv6.15.12.2//NONSGML v1.0//EN
CALSCALE:GREGORIAN
METHOD:PUBLISH
X-ORIGINAL-URL:https://www.suttonunited.net
X-WR-CALDESC:Events for Sutton United Football Club
REFRESH-INTERVAL;VALUE=DURATION:PT1H
X-Robots-Tag:noindex
X-PUBLISHED-TTL:PT1H
BEGIN:VTIMEZONE
TZID:UTC
BEGIN:STANDARD
TZOFFSETFROM:+0000
TZOFFSETTO:+0000
TZNAME:UTC
DTSTART:20170101T000000
END:STANDARD
END:VTIMEZONE
BEGIN:VEVENT
DTSTART;TZID=UTC:20181201T150000
DTEND;TZID=UTC:20181201T170000
DTSTAMP:20260424T071203
CREATED:20180704T143748Z
LAST-MODIFIED:20180704T143748Z
UID:14519-1543676400-1543683600@www.suttonunited.net
SUMMARY:First Team National League Fixture away at AFC Fylde
DESCRIPTION:
URL:https://www.suttonunited.net/event/first-team-national-league-fixture-away-at-afc-fylde/
LOCATION:AFC Fylde\, Mill Farm Sports Village\, Coronation Way\, Wesham\, PR4 3JZ\, United Kingdom
CATEGORIES:First Team Fixture
END:VEVENT
BEGIN:VEVENT
DTSTART;TZID=UTC:20181208T150000
DTEND;TZID=UTC:20181208T170000
DTSTAMP:20260424T071203
CREATED:20180704T143944Z
LAST-MODIFIED:20180704T143944Z
UID:14521-1544281200-1544288400@www.suttonunited.net
SUMMARY:First Team National League Fixture Home to Solihull Moors
DESCRIPTION:
URL:https://www.suttonunited.net/event/first-team-national-league-fixture-home-to-solihull-moors/
LOCATION:Knights Community Stadium\, Gander Green Lane\, London Borough of Sutton\, SM1 2EY\, United Kingdom
CATEGORIES:First Team Fixture
END:VEVENT
BEGIN:VEVENT
DTSTART;TZID=UTC:20181222T080000
DTEND;TZID=UTC:20181222T170000
DTSTAMP:20260424T071203
CREATED:20180704T144324Z
LAST-MODIFIED:20180704T144324Z
UID:14523-1545465600-1545498000@www.suttonunited.net
SUMMARY:First Team National League Fixture away to FC Halifax Town
DESCRIPTION:
URL:https://www.suttonunited.net/event/first-team-national-league-fixture-away-to-fc-halifax-town/
LOCATION:FC Halifax Town\, The Shay Shay Syke\,\, Halifax\,\, West Yorkshire\, England\,\, HX1 2YS\, United Kingdom
CATEGORIES:First Team Fixture
END:VEVENT
BEGIN:VEVENT
DTSTART;TZID=UTC:20181226T150000
DTEND;TZID=UTC:20181226T170000
DTSTAMP:20260424T071203
CREATED:20180704T144536Z
LAST-MODIFIED:20180704T144536Z
UID:14526-1545836400-1545843600@www.suttonunited.net
SUMMARY:Boxing Day First Team National League Fixture home to Bromley
DESCRIPTION:
URL:https://www.suttonunited.net/event/boxing-day-first-team-national-league-fixture-home-to-bromley/
LOCATION:Knights Community Stadium\, Gander Green Lane\, London Borough of Sutton\, SM1 2EY\, United Kingdom
CATEGORIES:First Team Fixture
END:VEVENT
END:VCALENDAR