BEGIN:VCALENDAR
VERSION:2.0
PRODID:-//Sutton United Football Club - ECPv6.15.12.2//NONSGML v1.0//EN
CALSCALE:GREGORIAN
METHOD:PUBLISH
X-WR-CALNAME:Sutton United Football Club
X-ORIGINAL-URL:https://www.suttonunited.net
X-WR-CALDESC:Events for Sutton United Football Club
REFRESH-INTERVAL;VALUE=DURATION:PT1H
X-Robots-Tag:noindex
X-PUBLISHED-TTL:PT1H
BEGIN:VTIMEZONE
TZID:UTC
BEGIN:STANDARD
TZOFFSETFROM:+0000
TZOFFSETTO:+0000
TZNAME:UTC
DTSTART:20180101T000000
END:STANDARD
END:VTIMEZONE
BEGIN:VEVENT
DTSTART;TZID=UTC:20190209T150000
DTEND;TZID=UTC:20190209T170000
DTSTAMP:20260424T035339
CREATED:20190123T115755Z
LAST-MODIFIED:20190123T115755Z
UID:17253-1549724400-1549731600@www.suttonunited.net
SUMMARY:First Team National League Fixture Away to Barnet
DESCRIPTION:
URL:https://www.suttonunited.net/event/first-team-national-league-fixture-away-to-barnet/
LOCATION:Barnet FC\, Camrose Avenue\, London\, Edgware\, HA8 6AG\, United Kingdom
CATEGORIES:First Team Fixture
END:VEVENT
BEGIN:VEVENT
DTSTART;TZID=UTC:20190216T150000
DTEND;TZID=UTC:20190216T170000
DTSTAMP:20260424T035339
CREATED:20190123T115914Z
LAST-MODIFIED:20190123T115914Z
UID:17258-1550329200-1550336400@www.suttonunited.net
SUMMARY:First Team National League Fixture Home to Barrow
DESCRIPTION:
URL:https://www.suttonunited.net/event/first-team-national-league-fixture-home-to-barrow/
LOCATION:Knights Community Stadium\, Gander Green Lane\, London Borough of Sutton\, SM1 2EY\, United Kingdom
CATEGORIES:First Team Fixture
END:VEVENT
BEGIN:VEVENT
DTSTART;TZID=UTC:20190219T194500
DTEND;TZID=UTC:20190219T213000
DTSTAMP:20260424T035339
CREATED:20190123T152512Z
LAST-MODIFIED:20190123T152512Z
UID:17302-1550605500-1550611800@www.suttonunited.net
SUMMARY:First Team National League Fixture Home to Barnet
DESCRIPTION:
URL:https://www.suttonunited.net/event/first-team-national-league-fixture-home-to-barnet-2/
LOCATION:Knights Community Stadium\, Gander Green Lane\, London Borough of Sutton\, SM1 2EY\, United Kingdom
CATEGORIES:First Team Fixture
END:VEVENT
BEGIN:VEVENT
DTSTART;TZID=UTC:20190223T150000
DTEND;TZID=UTC:20190223T170000
DTSTAMP:20260424T035339
CREATED:20190123T153326Z
LAST-MODIFIED:20190123T153326Z
UID:17304-1550934000-1550941200@www.suttonunited.net
SUMMARY:First Team National League Fixture Away to Dagenham & Redbridge
DESCRIPTION:
URL:https://www.suttonunited.net/event/first-team-national-league-fixture-away-to-dagenham-redbridge/
LOCATION:Dagenham & Redbridge FC\, Victoria Road\, Dagenham\, RM10 7XL\, United Kingdom
CATEGORIES:First Team Fixture
END:VEVENT
END:VCALENDAR