BEGIN:VCALENDAR
VERSION:2.0
PRODID:-//Sutton United Football Club - ECPv6.15.12.2//NONSGML v1.0//EN
CALSCALE:GREGORIAN
METHOD:PUBLISH
X-WR-CALNAME:Sutton United Football Club
X-ORIGINAL-URL:https://www.suttonunited.net
X-WR-CALDESC:Events for Sutton United Football Club
REFRESH-INTERVAL;VALUE=DURATION:PT1H
X-Robots-Tag:noindex
X-PUBLISHED-TTL:PT1H
BEGIN:VTIMEZONE
TZID:UTC
BEGIN:STANDARD
TZOFFSETFROM:+0000
TZOFFSETTO:+0000
TZNAME:UTC
DTSTART:20180101T000000
END:STANDARD
END:VTIMEZONE
BEGIN:VEVENT
DTSTART;TZID=UTC:20190302T150000
DTEND;TZID=UTC:20190302T170000
DTSTAMP:20260424T021626
CREATED:20190123T153431Z
LAST-MODIFIED:20190123T153431Z
UID:17306-1551538800-1551546000@www.suttonunited.net
SUMMARY:First Team National League Fixture Home to Hartlepool
DESCRIPTION:
URL:https://www.suttonunited.net/event/first-team-national-league-fixture-home-to-hartlepool/
LOCATION:Knights Community Stadium\, Gander Green Lane\, London Borough of Sutton\, SM1 2EY\, United Kingdom
CATEGORIES:First Team Fixture
END:VEVENT
BEGIN:VEVENT
DTSTART;TZID=UTC:20190309T150000
DTEND;TZID=UTC:20190309T170000
DTSTAMP:20260424T021626
CREATED:20190123T153542Z
LAST-MODIFIED:20190123T153542Z
UID:17308-1552143600-1552150800@www.suttonunited.net
SUMMARY:First Team National League Fixture Away to Maidenhead
DESCRIPTION:
URL:https://www.suttonunited.net/event/first-team-national-league-fixture-away-to-maidenhead/
LOCATION:Maidenhead United FC\, York Road\, Maid\, SL6 1SF\, United Kingdom
CATEGORIES:First Team Fixture
END:VEVENT
BEGIN:VEVENT
DTSTART;TZID=UTC:20190312T194500
DTEND;TZID=UTC:20190312T213000
DTSTAMP:20260424T021626
CREATED:20190123T153716Z
LAST-MODIFIED:20190123T153716Z
UID:17310-1552419900-1552426200@www.suttonunited.net
SUMMARY:First Team National League Fixture Home to Braintree
DESCRIPTION:
URL:https://www.suttonunited.net/event/first-team-national-league-fixture-home-to-braintree/
LOCATION:Knights Community Stadium\, Gander Green Lane\, London Borough of Sutton\, SM1 2EY\, United Kingdom
CATEGORIES:First Team Fixture
END:VEVENT
BEGIN:VEVENT
DTSTART;TZID=UTC:20190316T150000
DTEND;TZID=UTC:20190316T170000
DTSTAMP:20260424T021626
CREATED:20190123T153857Z
LAST-MODIFIED:20190123T153857Z
UID:17312-1552748400-1552755600@www.suttonunited.net
SUMMARY:First Team National League Fixture Home to Gateshead
DESCRIPTION:
URL:https://www.suttonunited.net/event/first-team-national-league-fixture-home-to-gateshead/
LOCATION:Knights Community Stadium\, Gander Green Lane\, London Borough of Sutton\, SM1 2EY\, United Kingdom
CATEGORIES:First Team Fixture
END:VEVENT
BEGIN:VEVENT
DTSTART;TZID=UTC:20190323T123000
DTEND;TZID=UTC:20190323T143000
DTSTAMP:20260424T021626
CREATED:20190125T143213Z
LAST-MODIFIED:20190208T153008Z
UID:17367-1553344200-1553351400@www.suttonunited.net
SUMMARY:First Team National League Fixture Away to Chesterfield
DESCRIPTION:
URL:https://www.suttonunited.net/event/first-team-national-league-fixture-away-to-chesterfield/
LOCATION:Chesterfield FC\, 1866 Sheffield Road\, Chesterfiled\, S41 8NZ\, United Kingdom
CATEGORIES:First Team Fixture
END:VEVENT
BEGIN:VEVENT
DTSTART;TZID=UTC:20190330T150000
DTEND;TZID=UTC:20190330T170000
DTSTAMP:20260424T021626
CREATED:20190125T143347Z
LAST-MODIFIED:20190125T143347Z
UID:17371-1553958000-1553965200@www.suttonunited.net
SUMMARY:First Team National League Fixture Home to Havant & Waterlooville
DESCRIPTION:
URL:https://www.suttonunited.net/event/first-team-national-league-fixture-home-to-havant-waterlooville/
LOCATION:Knights Community Stadium\, Gander Green Lane\, London Borough of Sutton\, SM1 2EY\, United Kingdom
CATEGORIES:First Team Fixture
END:VEVENT
END:VCALENDAR