BEGIN:VCALENDAR
VERSION:2.0
PRODID:-//Sutton United Football Club - ECPv6.15.12.2//NONSGML v1.0//EN
CALSCALE:GREGORIAN
METHOD:PUBLISH
X-ORIGINAL-URL:https://www.suttonunited.net
X-WR-CALDESC:Events for Sutton United Football Club
REFRESH-INTERVAL;VALUE=DURATION:PT1H
X-Robots-Tag:noindex
X-PUBLISHED-TTL:PT1H
BEGIN:VTIMEZONE
TZID:UTC
BEGIN:STANDARD
TZOFFSETFROM:+0000
TZOFFSETTO:+0000
TZNAME:UTC
DTSTART:20170101T000000
END:STANDARD
END:VTIMEZONE
BEGIN:VEVENT
DTSTART;TZID=UTC:20180722T090000
DTEND;TZID=UTC:20180722T130000
DTSTAMP:20260425T031918
CREATED:20180716T110746Z
LAST-MODIFIED:20180716T110746Z
UID:14857-1532250000-1532264400@www.suttonunited.net
SUMMARY:Sutton United Tournament U11s
DESCRIPTION:The Knights Community stadium hosts its annual Boys football tournament
URL:https://www.suttonunited.net/event/sutton-united-tournament-u11s/
LOCATION:Knights Community Stadium\, Gander Green Lane\, London Borough of Sutton\, SM1 2EY\, United Kingdom
CATEGORIES:JD sports event
END:VEVENT
BEGIN:VEVENT
DTSTART;TZID=UTC:20180722T140000
DTEND;TZID=UTC:20180722T180000
DTSTAMP:20260425T031918
CREATED:20180716T111911Z
LAST-MODIFIED:20180716T111911Z
UID:14859-1532268000-1532282400@www.suttonunited.net
SUMMARY:Sutton United Tournament U12s
DESCRIPTION:  \nThe final session of the tournament features the U12s
URL:https://www.suttonunited.net/event/sutton-united-tournament-u12s/
LOCATION:Knights Community Stadium\, Gander Green Lane\, London Borough of Sutton\, SM1 2EY\, United Kingdom
CATEGORIES:JD sports event
END:VEVENT
END:VCALENDAR