BEGIN:VCALENDAR
VERSION:2.0
PRODID:-//Sutton United Football Club - ECPv6.15.12.2//NONSGML v1.0//EN
CALSCALE:GREGORIAN
METHOD:PUBLISH
X-WR-CALNAME:Sutton United Football Club
X-ORIGINAL-URL:https://www.suttonunited.net
X-WR-CALDESC:Events for Sutton United Football Club
REFRESH-INTERVAL;VALUE=DURATION:PT1H
X-Robots-Tag:noindex
X-PUBLISHED-TTL:PT1H
BEGIN:VTIMEZONE
TZID:UTC
BEGIN:STANDARD
TZOFFSETFROM:+0000
TZOFFSETTO:+0000
TZNAME:UTC
DTSTART:20170101T000000
END:STANDARD
END:VTIMEZONE
BEGIN:VEVENT
DTSTART;TZID=UTC:20180107T103000
DTEND;TZID=UTC:20180107T130000
DTSTAMP:20260420T102223
CREATED:20180105T152814Z
LAST-MODIFIED:20180105T153206Z
UID:11411-1515321000-1515330000@www.suttonunited.net
SUMMARY:Ladies first team home game vs Crystal Palace
DESCRIPTION:Come and support our successful Ladies Team in their push for the League title in their first season
URL:https://www.suttonunited.net/event/ladies-first-team-home-game-vs-crystal-palace/
LOCATION:Knights Community Stadium\, Gander Green Lane\, London Borough of Sutton\, SM1 2EY\, United Kingdom
CATEGORIES:Ladies 1st team league game
END:VEVENT
BEGIN:VEVENT
DTSTART;TZID=UTC:20180121T143000
DTEND;TZID=UTC:20180121T170000
DTSTAMP:20260420T102223
CREATED:20180105T153100Z
LAST-MODIFIED:20180105T153100Z
UID:11413-1516545000-1516554000@www.suttonunited.net
SUMMARY:Ladies First team home match vs. Wealdstone
DESCRIPTION:Come see the Sutton United Ladies team play in their first season
URL:https://www.suttonunited.net/event/ladies-first-team-home-match-vs-wealdstone/
LOCATION:Knights Community Stadium\, Gander Green Lane\, London Borough of Sutton\, SM1 2EY\, United Kingdom
CATEGORIES:Ladies 1st team league game
END:VEVENT
BEGIN:VEVENT
DTSTART;TZID=UTC:20180128T140000
DTEND;TZID=UTC:20180128T170000
DTSTAMP:20260420T102223
CREATED:20180105T153736Z
LAST-MODIFIED:20180105T153736Z
UID:11417-1517148000-1517158800@www.suttonunited.net
SUMMARY:Ladies First Team away match vs. South London Women
DESCRIPTION:Support the Sutton United Ladies team in their first season
URL:https://www.suttonunited.net/event/ladies-first-team-away-match-vs-south-london-women/
LOCATION:Knights Community Stadium\, Gander Green Lane\, London Borough of Sutton\, SM1 2EY\, United Kingdom
CATEGORIES:Ladies 1st team league game
END:VEVENT
END:VCALENDAR