BEGIN:VCALENDAR
VERSION:2.0
PRODID:-//Sutton United Football Club - ECPv6.15.12.2//NONSGML v1.0//EN
CALSCALE:GREGORIAN
METHOD:PUBLISH
X-ORIGINAL-URL:https://www.suttonunited.net
X-WR-CALDESC:Events for Sutton United Football Club
REFRESH-INTERVAL;VALUE=DURATION:PT1H
X-Robots-Tag:noindex
X-PUBLISHED-TTL:PT1H
BEGIN:VTIMEZONE
TZID:UTC
BEGIN:STANDARD
TZOFFSETFROM:+0000
TZOFFSETTO:+0000
TZNAME:UTC
DTSTART:20180101T000000
END:STANDARD
END:VTIMEZONE
BEGIN:VEVENT
DTSTART;TZID=UTC:20190211T193000
DTEND;TZID=UTC:20190211T213000
DTSTAMP:20260423T174533
CREATED:20190123T183317Z
LAST-MODIFIED:20190131T200529Z
UID:17334-1549913400-1549920600@www.suttonunited.net
SUMMARY:U21 Academy Away to Corinthian-Casuals Res
DESCRIPTION:
URL:https://www.suttonunited.net/event/reserves-away-to-corinthian-casuals-res/
CATEGORIES:Suburban Football League - Premier Division
END:VEVENT
BEGIN:VEVENT
DTSTART;TZID=UTC:20190216T150000
DTEND;TZID=UTC:20190216T170000
DTSTAMP:20260423T174533
CREATED:20190123T183421Z
LAST-MODIFIED:20190131T200503Z
UID:17336-1550329200-1550336400@www.suttonunited.net
SUMMARY:U21 Academy Away to Binfield Res
DESCRIPTION:
URL:https://www.suttonunited.net/event/reserves-away-to-binfield-res/
CATEGORIES:Suburban Football League - Premier Division
END:VEVENT
END:VCALENDAR