BEGIN:VCALENDAR
VERSION:2.0
PRODID:-//Sutton United Football Club - ECPv6.15.12.2//NONSGML v1.0//EN
CALSCALE:GREGORIAN
METHOD:PUBLISH
X-WR-CALNAME:Sutton United Football Club
X-ORIGINAL-URL:https://www.suttonunited.net
X-WR-CALDESC:Events for Sutton United Football Club
REFRESH-INTERVAL;VALUE=DURATION:PT1H
X-Robots-Tag:noindex
X-PUBLISHED-TTL:PT1H
BEGIN:VTIMEZONE
TZID:UTC
BEGIN:STANDARD
TZOFFSETFROM:+0000
TZOFFSETTO:+0000
TZNAME:UTC
DTSTART:20180101T000000
END:STANDARD
END:VTIMEZONE
BEGIN:VEVENT
DTSTART;TZID=UTC:20190302T150000
DTEND;TZID=UTC:20190302T170000
DTSTAMP:20260423T154930
CREATED:20190123T183513Z
LAST-MODIFIED:20190131T200440Z
UID:17338-1551538800-1551546000@www.suttonunited.net
SUMMARY:U21 Academy Away to Met Police Res
DESCRIPTION:
URL:https://www.suttonunited.net/event/reserves-away-to-met-police-res/
CATEGORIES:Suburban Football League - Premier Division
END:VEVENT
BEGIN:VEVENT
DTSTART;TZID=UTC:20190308T194500
DTEND;TZID=UTC:20190308T213000
DTSTAMP:20260423T154930
CREATED:20190123T183616Z
LAST-MODIFIED:20190131T200429Z
UID:17340-1552074300-1552080600@www.suttonunited.net
SUMMARY:U21 Academy Home to Woking Res
DESCRIPTION:
URL:https://www.suttonunited.net/event/reserves-home-to-woking-res/
LOCATION:Knights Community Stadium\, Gander Green Lane\, London Borough of Sutton\, SM1 2EY\, United Kingdom
CATEGORIES:Suburban Football League - Premier Division
END:VEVENT
BEGIN:VEVENT
DTSTART;TZID=UTC:20190315T194500
DTEND;TZID=UTC:20190315T213000
DTSTAMP:20260423T154930
CREATED:20190123T183754Z
LAST-MODIFIED:20190131T200353Z
UID:17343-1552679100-1552685400@www.suttonunited.net
SUMMARY:U21 Academy Home to Corinthian Res
DESCRIPTION:
URL:https://www.suttonunited.net/event/reserves-home-to-corinthian-res/
LOCATION:Knights Community Stadium\, Gander Green Lane\, London Borough of Sutton\, SM1 2EY\, United Kingdom
CATEGORIES:Suburban Football League - Premier Division
END:VEVENT
BEGIN:VEVENT
DTSTART;TZID=UTC:20190322T194500
DTEND;TZID=UTC:20190322T213000
DTSTAMP:20260423T154930
CREATED:20190123T183913Z
LAST-MODIFIED:20190131T200338Z
UID:17345-1553283900-1553290200@www.suttonunited.net
SUMMARY:U21 Academy Home to Corinthian-Casuals Res
DESCRIPTION:
URL:https://www.suttonunited.net/event/reserves-home-to-corinthian-casuals-res/
LOCATION:Knights Community Stadium\, Gander Green Lane\, London Borough of Sutton\, SM1 2EY\, United Kingdom
CATEGORIES:Suburban Football League - Premier Division
END:VEVENT
BEGIN:VEVENT
DTSTART;TZID=UTC:20190330T150000
DTEND;TZID=UTC:20190330T170000
DTSTAMP:20260423T154930
CREATED:20190123T184043Z
LAST-MODIFIED:20190131T200259Z
UID:17347-1553958000-1553965200@www.suttonunited.net
SUMMARY:U21 Academy Away to Royston Town Res
DESCRIPTION:
URL:https://www.suttonunited.net/event/reserves-away-to-royston-town-res/
CATEGORIES:Suburban Football League - Premier Division
END:VEVENT
END:VCALENDAR