BEGIN:VCALENDAR
VERSION:2.0
PRODID:-//Sutton United Football Club - ECPv6.15.12.2//NONSGML v1.0//EN
CALSCALE:GREGORIAN
METHOD:PUBLISH
X-ORIGINAL-URL:https://www.suttonunited.net
X-WR-CALDESC:Events for Sutton United Football Club
REFRESH-INTERVAL;VALUE=DURATION:PT1H
X-Robots-Tag:noindex
X-PUBLISHED-TTL:PT1H
BEGIN:VTIMEZONE
TZID:UTC
BEGIN:STANDARD
TZOFFSETFROM:+0000
TZOFFSETTO:+0000
TZNAME:UTC
DTSTART:20180101T000000
END:STANDARD
END:VTIMEZONE
BEGIN:VEVENT
DTSTART;TZID=UTC:20190304T194500
DTEND;TZID=UTC:20190304T213000
DTSTAMP:20260424T231248
CREATED:20190130T141252Z
LAST-MODIFIED:20190130T141252Z
UID:17467-1551728700-1551735000@www.suttonunited.net
SUMMARY:SCR U18 vs K Sports
DESCRIPTION:
URL:https://www.suttonunited.net/event/scr-u18-vs-k-sports/
LOCATION:Knights Community Stadium\, Gander Green Lane\, London Borough of Sutton\, SM1 2EY\, United Kingdom
CATEGORIES:Sutton Common Rovers
END:VEVENT
BEGIN:VEVENT
DTSTART;TZID=UTC:20190309T150000
DTEND;TZID=UTC:20190309T170000
DTSTAMP:20260424T231248
CREATED:20190130T141529Z
LAST-MODIFIED:20190130T141529Z
UID:17469-1552143600-1552150800@www.suttonunited.net
SUMMARY:SCR First team vs Southall
DESCRIPTION:
URL:https://www.suttonunited.net/event/scr-first-team-vs-southall/
LOCATION:Knights Community Stadium\, Gander Green Lane\, London Borough of Sutton\, SM1 2EY\, United Kingdom
CATEGORIES:Sutton Common Rovers
END:VEVENT
BEGIN:VEVENT
DTSTART;TZID=UTC:20190318T194500
DTEND;TZID=UTC:20190318T213000
DTSTAMP:20260424T231248
CREATED:20190130T204350Z
LAST-MODIFIED:20190130T204350Z
UID:17473-1552938300-1552944600@www.suttonunited.net
SUMMARY:SCR First Team vs Hanworth Villa (Cup Quarter Final)
DESCRIPTION:
URL:https://www.suttonunited.net/event/scr-first-team-vs-hanworth-villa-cup-quarter-final/
LOCATION:Knights Community Stadium\, Gander Green Lane\, London Borough of Sutton\, SM1 2EY\, United Kingdom
CATEGORIES:Sutton Common Rovers
END:VEVENT
BEGIN:VEVENT
DTSTART;TZID=UTC:20190323T150000
DTEND;TZID=UTC:20190323T170000
DTSTAMP:20260424T231248
CREATED:20190130T204714Z
LAST-MODIFIED:20190130T204714Z
UID:17475-1553353200-1553360400@www.suttonunited.net
SUMMARY:SCR First Team vs Badshot Lea
DESCRIPTION:
URL:https://www.suttonunited.net/event/scr-first-team-vs-badshot-lea/
LOCATION:Knights Community Stadium\, Gander Green Lane\, London Borough of Sutton\, SM1 2EY\, United Kingdom
CATEGORIES:Sutton Common Rovers
END:VEVENT
END:VCALENDAR