BEGIN:VCALENDAR
VERSION:2.0
PRODID:-//Sutton United Football Club - ECPv6.15.12.2//NONSGML v1.0//EN
CALSCALE:GREGORIAN
METHOD:PUBLISH
X-WR-CALNAME:Sutton United Football Club
X-ORIGINAL-URL:https://www.suttonunited.net
X-WR-CALDESC:Events for Sutton United Football Club
REFRESH-INTERVAL;VALUE=DURATION:PT1H
X-Robots-Tag:noindex
X-PUBLISHED-TTL:PT1H
BEGIN:VTIMEZONE
TZID:Europe/London
BEGIN:DAYLIGHT
TZOFFSETFROM:+0000
TZOFFSETTO:+0100
TZNAME:BST
DTSTART:20180325T010000
END:DAYLIGHT
BEGIN:STANDARD
TZOFFSETFROM:+0100
TZOFFSETTO:+0000
TZNAME:GMT
DTSTART:20181028T010000
END:STANDARD
BEGIN:DAYLIGHT
TZOFFSETFROM:+0000
TZOFFSETTO:+0100
TZNAME:BST
DTSTART:20190331T010000
END:DAYLIGHT
BEGIN:STANDARD
TZOFFSETFROM:+0100
TZOFFSETTO:+0000
TZNAME:GMT
DTSTART:20191027T010000
END:STANDARD
BEGIN:DAYLIGHT
TZOFFSETFROM:+0000
TZOFFSETTO:+0100
TZNAME:BST
DTSTART:20200329T010000
END:DAYLIGHT
BEGIN:STANDARD
TZOFFSETFROM:+0100
TZOFFSETTO:+0000
TZNAME:GMT
DTSTART:20201025T010000
END:STANDARD
END:VTIMEZONE
BEGIN:VEVENT
DTSTART;TZID=Europe/London:20190804T113000
DTEND;TZID=Europe/London:20190804T133000
DTSTAMP:20260424T165610
CREATED:20190623T133554Z
LAST-MODIFIED:20190627T123801Z
UID:21065-1564918200-1564925400@www.suttonunited.net
SUMMARY:Women's U21 Pre-Season Friendly V Luton Town Dev (H)
DESCRIPTION:
URL:https://www.suttonunited.net/event/womens-dev-pre-season-friendly-v-luton-town-dev-h/
LOCATION:Knights Community Stadium\, Gander Green Lane\, London Borough of Sutton\, SM1 2EY\, United Kingdom
CATEGORIES:Women's Pre-Season Friendly Match
END:VEVENT
BEGIN:VEVENT
DTSTART;TZID=Europe/London:20190804T140000
DTEND;TZID=Europe/London:20190804T160000
DTSTAMP:20260424T165610
CREATED:20190623T133116Z
LAST-MODIFIED:20190623T133116Z
UID:21056-1564927200-1564934400@www.suttonunited.net
SUMMARY:Women's Pre-Season Friendly V Luton Town (H)
DESCRIPTION:
URL:https://www.suttonunited.net/event/womens-pre-season-friendly-v-luton-town-h/
LOCATION:Knights Community Stadium\, Gander Green Lane\, London Borough of Sutton\, SM1 2EY\, United Kingdom
CATEGORIES:Women's Pre-Season Friendly Match
END:VEVENT
BEGIN:VEVENT
DTSTART;TZID=Europe/London:20190811T113000
DTEND;TZID=Europe/London:20190811T133000
DTSTAMP:20260424T165610
CREATED:20190623T133733Z
LAST-MODIFIED:20190627T123753Z
UID:21067-1565523000-1565530200@www.suttonunited.net
SUMMARY:Women's U21 Pre-Season Friendly V Balham FC (H)
DESCRIPTION:
URL:https://www.suttonunited.net/event/womens-dev-pre-season-friendly-v-balham-fc-h/
LOCATION:Knights Community Stadium\, Gander Green Lane\, London Borough of Sutton\, SM1 2EY\, United Kingdom
CATEGORIES:Women's Pre-Season Friendly Match
END:VEVENT
BEGIN:VEVENT
DTSTART;TZID=Europe/London:20190811T143000
DTEND;TZID=Europe/London:20190811T163000
DTSTAMP:20260424T165610
CREATED:20190623T133417Z
LAST-MODIFIED:20190623T133417Z
UID:21061-1565533800-1565541000@www.suttonunited.net
SUMMARY:Women's Pre-Season Friendly V Brentford FC (H)
DESCRIPTION:
URL:https://www.suttonunited.net/event/womens-pre-season-friendly-v-brentford-fc-h/
LOCATION:Knights Community Stadium\, Gander Green Lane\, London Borough of Sutton\, SM1 2EY\, United Kingdom
CATEGORIES:Women's Pre-Season Friendly Match
END:VEVENT
BEGIN:VEVENT
DTSTART;VALUE=DATE:20190818
DTEND;VALUE=DATE:20190819
DTSTAMP:20260424T165610
CREATED:20190627T124452Z
LAST-MODIFIED:20190627T125205Z
UID:21247-1566086400-1566172799@www.suttonunited.net
SUMMARY:Women's U21 Pre-Season Friendly Vs Actonians Res TBC
DESCRIPTION:
URL:https://www.suttonunited.net/event/womens-u21-pre-season-friendly-vs-actonians-tbc/
LOCATION:Sutton\, United Kingdom
CATEGORIES:Women's Pre-Season Friendly Match
END:VEVENT
END:VCALENDAR