BEGIN:VCALENDAR
VERSION:2.0
PRODID:-//Sutton United Football Club - ECPv6.15.12.2//NONSGML v1.0//EN
CALSCALE:GREGORIAN
METHOD:PUBLISH
X-WR-CALNAME:Sutton United Football Club
X-ORIGINAL-URL:https://www.suttonunited.net
X-WR-CALDESC:Events for Sutton United Football Club
REFRESH-INTERVAL;VALUE=DURATION:PT1H
X-Robots-Tag:noindex
X-PUBLISHED-TTL:PT1H
BEGIN:VTIMEZONE
TZID:Europe/London
BEGIN:DAYLIGHT
TZOFFSETFROM:+0000
TZOFFSETTO:+0100
TZNAME:BST
DTSTART:20230326T010000
END:DAYLIGHT
BEGIN:STANDARD
TZOFFSETFROM:+0100
TZOFFSETTO:+0000
TZNAME:GMT
DTSTART:20231029T010000
END:STANDARD
BEGIN:DAYLIGHT
TZOFFSETFROM:+0000
TZOFFSETTO:+0100
TZNAME:BST
DTSTART:20240331T010000
END:DAYLIGHT
BEGIN:STANDARD
TZOFFSETFROM:+0100
TZOFFSETTO:+0000
TZNAME:GMT
DTSTART:20241027T010000
END:STANDARD
BEGIN:DAYLIGHT
TZOFFSETFROM:+0000
TZOFFSETTO:+0100
TZNAME:BST
DTSTART:20250330T010000
END:DAYLIGHT
BEGIN:STANDARD
TZOFFSETFROM:+0100
TZOFFSETTO:+0000
TZNAME:GMT
DTSTART:20251026T010000
END:STANDARD
BEGIN:DAYLIGHT
TZOFFSETFROM:+0000
TZOFFSETTO:+0100
TZNAME:BST
DTSTART:20260329T010000
END:DAYLIGHT
BEGIN:STANDARD
TZOFFSETFROM:+0100
TZOFFSETTO:+0000
TZNAME:GMT
DTSTART:20261025T010000
END:STANDARD
END:VTIMEZONE
BEGIN:VEVENT
DTSTART;TZID=Europe/London:20241231T200000
DTEND;TZID=Europe/London:20250101T010000
DTSTAMP:20260420T123543
CREATED:20240813T225941Z
LAST-MODIFIED:20240919T171123Z
UID:65421-1735675200-1735693200@www.suttonunited.net
SUMMARY:Club Camembert NYE Party
DESCRIPTION:Come join us for a night of non-stop dancing and fun at Club Camembert! We’re bringing you the best Club Classics to keep you grooving all night long. The party will be held at Sutton United Football Club\, Gander Green Lane\, Sutton\, UK. Get ready to welcome the New Year in style with great music\, awesome vibes\, and fantastic company. Don’t miss out on the ultimate New Years Eve celebration! \nPurchase Tickets Here
URL:https://www.suttonunited.net/event/club-camembert-nye-party/
LOCATION:Sutton United\, Gander Green Lane\, SM1 2EY\, United Kingdom
ATTACH;FMTTYPE=image/png:https://www.suttonunited.net/wp-content/uploads/2024/08/Screenshot-2024-08-29-235321.png
END:VEVENT
BEGIN:VEVENT
DTSTART;TZID=Europe/London:20250101T150000
DTEND;TZID=Europe/London:20250101T170000
DTSTAMP:20260420T123543
CREATED:20241001T140343Z
LAST-MODIFIED:20241001T140343Z
UID:66637-1735743600-1735750800@www.suttonunited.net
SUMMARY:Sutton United vs Aldershot Town
DESCRIPTION:
URL:https://www.suttonunited.net/event/sutton-united-vs-aldershot-town/
LOCATION:Sutton United\, Gander Green Lane\, SM1 2EY\, United Kingdom
ATTACH;FMTTYPE=image/jpeg:https://www.suttonunited.net/wp-content/uploads/2024/10/SUTD3021.jpg
END:VEVENT
BEGIN:VEVENT
DTSTART;TZID=Europe/London:20250110T193000
DTEND;TZID=Europe/London:20250110T230000
DTSTAMP:20260420T123543
CREATED:20240813T223051Z
LAST-MODIFIED:20240919T171333Z
UID:65396-1736537400-1736550000@www.suttonunited.net
SUMMARY:BRUCE JUICE (Bruce Springsteen)
DESCRIPTION:Tickets are £15.00 in advance and £17.50 on the night – you can pay cash on the night or book through suttonboomboomclub@gmail.com or by calling 07703 626309 between 10.00am and 7.00pm. Doors and the bar open at 7.30pm and finishes at 11
URL:https://www.suttonunited.net/event/bruce-juice-bruce-springsteen/
LOCATION:SUTTON BOOM BOOM CLUB\, Gander Green Lane\, SM1 2EY\, United Kingdom
ATTACH;FMTTYPE=image/jpeg:https://www.suttonunited.net/wp-content/uploads/2024/08/Bruce-Juice.jpg
END:VEVENT
BEGIN:VEVENT
DTSTART;TZID=Europe/London:20250111T150000
DTEND;TZID=Europe/London:20250111T170000
DTSTAMP:20260420T123543
CREATED:20241001T140436Z
LAST-MODIFIED:20241001T140436Z
UID:66640-1736607600-1736614800@www.suttonunited.net
SUMMARY:AFC Fylde vs Sutton United
DESCRIPTION:
URL:https://www.suttonunited.net/event/afc-fylde-vs-sutton-united/
LOCATION:AFC Fylde\, Mill Farm Sports Village\, Coronation Way\, Wesham\, PR4 3JZ\, United Kingdom
ATTACH;FMTTYPE=image/jpeg:https://www.suttonunited.net/wp-content/uploads/2024/10/SUTD1032.jpg
END:VEVENT
BEGIN:VEVENT
DTSTART;TZID=Europe/London:20250115T194500
DTEND;TZID=Europe/London:20250115T220000
DTSTAMP:20260420T123543
CREATED:20241001T140522Z
LAST-MODIFIED:20250113T101836Z
UID:66643-1736970300-1736978400@www.suttonunited.net
SUMMARY:Sutton United vs Wealdstone
DESCRIPTION:
URL:https://www.suttonunited.net/event/sutton-united-vs-wealdstone/
LOCATION:Sutton United\, Gander Green Lane\, SM1 2EY\, United Kingdom
ATTACH;FMTTYPE=image/jpeg:https://www.suttonunited.net/wp-content/uploads/2024/10/SUTD1051.jpg
END:VEVENT
BEGIN:VEVENT
DTSTART;TZID=Europe/London:20250118T100000
DTEND;TZID=Europe/London:20250118T120000
DTSTAMP:20260420T123543
CREATED:20241001T143728Z
LAST-MODIFIED:20250117T095503Z
UID:66743-1737194400-1737201600@www.suttonunited.net
SUMMARY:Sutton United U18 vs Bromley U18
DESCRIPTION:
URL:https://www.suttonunited.net/event/sutton-united-u18-vs-bromley-u18/
END:VEVENT
BEGIN:VEVENT
DTSTART;TZID=Europe/London:20250118T150000
DTEND;TZID=Europe/London:20250118T170000
DTSTAMP:20260420T123543
CREATED:20241001T140614Z
LAST-MODIFIED:20241001T140704Z
UID:66646-1737212400-1737219600@www.suttonunited.net
SUMMARY:York City vs Sutton United
DESCRIPTION:
URL:https://www.suttonunited.net/event/york-city-vs-sutton-united/
ATTACH;FMTTYPE=image/jpeg:https://www.suttonunited.net/wp-content/uploads/2024/10/SUTD1088.jpg
END:VEVENT
BEGIN:VEVENT
DTSTART;TZID=Europe/London:20250121T193000
DTEND;TZID=Europe/London:20250121T193000
DTSTAMP:20260420T123543
CREATED:20241001T140806Z
LAST-MODIFIED:20241001T140806Z
UID:66649-1737487800-1737487800@www.suttonunited.net
SUMMARY:Sutton United vs West Bromwich Albion U21
DESCRIPTION:
URL:https://www.suttonunited.net/event/sutton-united-vs-west-bromwich-albion-u21/
LOCATION:Sutton United\, Gander Green Lane\, SM1 2EY\, United Kingdom
ATTACH;FMTTYPE=image/jpeg:https://www.suttonunited.net/wp-content/uploads/2024/10/SUTD1117.jpg
END:VEVENT
BEGIN:VEVENT
DTSTART;TZID=Europe/London:20250125T110000
DTEND;TZID=Europe/London:20250125T130000
DTSTAMP:20260420T123543
CREATED:20241001T143806Z
LAST-MODIFIED:20241001T143806Z
UID:66745-1737802800-1737810000@www.suttonunited.net
SUMMARY:Sutton United U18 vs MK Dons U18
DESCRIPTION:
URL:https://www.suttonunited.net/event/sutton-united-u18-vs-mk-dons-u18/
END:VEVENT
BEGIN:VEVENT
DTSTART;TZID=Europe/London:20250125T150000
DTEND;TZID=Europe/London:20250125T170000
DTSTAMP:20260420T123543
CREATED:20241001T140855Z
LAST-MODIFIED:20241001T140855Z
UID:66652-1737817200-1737824400@www.suttonunited.net
SUMMARY:Sutton United vs Eastleigh
DESCRIPTION:
URL:https://www.suttonunited.net/event/sutton-united-vs-eastleigh/
LOCATION:Sutton United\, Gander Green Lane\, SM1 2EY\, United Kingdom
ATTACH;FMTTYPE=image/jpeg:https://www.suttonunited.net/wp-content/uploads/2024/10/SUTD3031.jpg
END:VEVENT
BEGIN:VEVENT
DTSTART;TZID=Europe/London:20250131T190000
DTEND;TZID=Europe/London:20250131T230000
DTSTAMP:20260420T123543
CREATED:20250120T224935Z
LAST-MODIFIED:20250120T224935Z
UID:68869-1738350000-1738364400@www.suttonunited.net
SUMMARY:Sutton Winter Beer Festival
DESCRIPTION:The Sutton Winter Beer Festival 2025 is your ultimate “Dry January BREAKER”  \nThis will be a fantastic celebration of handcrafted winter ales and beers from all over the Surrey Downs and beyond. \nTicket prices will include : \nA FREE Commemorative glass to use and keep \nA FREE pint of beer/ale or cider of your choice on arrival \nFREE LIVE Music\n \nWines\, spirits and soft drinks available for those who prefer not to drink beer or cider
URL:https://www.suttonunited.net/event/sutton-winter-beer-festival/
LOCATION:Sutton United\, Gander Green Lane\, SM1 2EY\, United Kingdom
ATTACH;FMTTYPE=image/png:https://www.suttonunited.net/wp-content/uploads/2025/01/Sutton-Winter-Beer-Festival.png
END:VEVENT
END:VCALENDAR