BEGIN:VCALENDAR
VERSION:2.0
PRODID:-//Sutton United Football Club - ECPv6.15.12.2//NONSGML v1.0//EN
CALSCALE:GREGORIAN
METHOD:PUBLISH
X-WR-CALNAME:Sutton United Football Club
X-ORIGINAL-URL:https://www.suttonunited.net
X-WR-CALDESC:Events for Sutton United Football Club
REFRESH-INTERVAL;VALUE=DURATION:PT1H
X-Robots-Tag:noindex
X-PUBLISHED-TTL:PT1H
BEGIN:VTIMEZONE
TZID:UTC
BEGIN:STANDARD
TZOFFSETFROM:+0000
TZOFFSETTO:+0000
TZNAME:UTC
DTSTART:20160101T000000
END:STANDARD
END:VTIMEZONE
BEGIN:VEVENT
DTSTART;TZID=UTC:20171124T193000
DTEND;TZID=UTC:20171124T230000
DTSTAMP:20260421T222811
CREATED:20171113T172246Z
LAST-MODIFIED:20171113T185202Z
UID:10313-1511551800-1511564400@www.suttonunited.net
SUMMARY:Boom Boom Club : Colin Blunstone Band and special guests
DESCRIPTION:Colin Blunstone \n \nNot to be missed an evening of music and history with a master entertainer! \nThe voice of some of the most memorable songs in pop history\, tours behind his acclaimed solo album ‘On The Air Tonight.’ \nIt’s the 11th solo studio set by one of Britain’s greatest vocal stylists\, in a career that has included songs like ‘She’s Not There\,’ ‘Time of the Season\,’ ‘Old and Wise\,’ ‘Say You Don’t Mind\,’ ‘I Don’t Believe In Miracles’ and so many more. \n‘On The Air Tonight’ is a collection of new compositions by Blunstone and other writers\, including Pete Bardens (who wrote the title track)\, Duncan Browne’s ‘Wild Places.’ & the ultimate surprise\, ‘The Best Is Yet To Come’ is co-written by Spice Girl Melanie Chisholm.\nThe album also features Colin’s tour band; The Zombies guitarist Tom Toomey\, Pete Billington on keyboards\, bassist Chris Childs and drummer Pat Illingworth\, whose collective credits include the Zombies\, Andy Summers\, Paul Young\, Alison Moyet and Kid Creole. \n48 years since his first hit recording\, ‘On The Air Tonight’ is a timely reminder that\, once again\, it’s the time of the season for Colin Blunstone. \n“Probably the most quintessentially English pop voice of it’s generation“\, The Times. \n“Colin Blunstone’s voice is one of the greatest British vocal sounds of the 20th. Century“\, Sir Tim Rice\, The Evening Standard. \n“Colin Blunstone’s solo oeuvre seems more relevant today than ever\, by turns breathy\, ethereal and operatic“\, Billboard. \nNot to be missed an evening of music and history with a master entertainer!
URL:https://www.suttonunited.net/event/colin-blunstone-band-special-guests/
LOCATION:Knights Community Stadium\, Gander Green Lane\, London Borough of Sutton\, SM1 2EY\, United Kingdom
CATEGORIES:Boom Boom Club
END:VEVENT
END:VCALENDAR