BEGIN:VCALENDAR
VERSION:2.0
PRODID:-//Sutton United Football Club - ECPv6.15.12.2//NONSGML v1.0//EN
CALSCALE:GREGORIAN
METHOD:PUBLISH
X-WR-CALNAME:Sutton United Football Club
X-ORIGINAL-URL:https://www.suttonunited.net
X-WR-CALDESC:Events for Sutton United Football Club
REFRESH-INTERVAL;VALUE=DURATION:PT1H
X-Robots-Tag:noindex
X-PUBLISHED-TTL:PT1H
BEGIN:VTIMEZONE
TZID:UTC
BEGIN:STANDARD
TZOFFSETFROM:+0000
TZOFFSETTO:+0000
TZNAME:UTC
DTSTART:20170101T000000
END:STANDARD
END:VTIMEZONE
BEGIN:VEVENT
DTSTART;TZID=UTC:20180822T194500
DTEND;TZID=UTC:20180822T213000
DTSTAMP:20260425T111647
CREATED:20180821T150831Z
LAST-MODIFIED:20180821T150831Z
UID:15346-1534967100-1534973400@www.suttonunited.net
SUMMARY:Academy U18s Home fixture vs. Woking
DESCRIPTION:Sutton’s Under 18 team\, which this season will be run as an academy team\, begins the 2018-19 Bostik Youth League campaign this Wednesday with a home game against Woking at the Knights Community Stadium\, kicking off at 7.45pm. U’s are playing in the Central Division this season\, a reasonably local division in which the longest away trips are to Woking and Chertsey.  The future is here ..
URL:https://www.suttonunited.net/event/academy-u18s-home-fixture-vs-woking/
LOCATION:Knights Community Stadium\, Gander Green Lane\, London Borough of Sutton\, SM1 2EY\, United Kingdom
CATEGORIES:Bostik Youth League
ORGANIZER;CN="marvin":MAILTO:marvin@knightsltd.co.uk
END:VEVENT
END:VCALENDAR