BEGIN:VCALENDAR
VERSION:2.0
PRODID:-//Sutton United Football Club - ECPv6.15.12.2//NONSGML v1.0//EN
CALSCALE:GREGORIAN
METHOD:PUBLISH
X-WR-CALNAME:Sutton United Football Club
X-ORIGINAL-URL:https://www.suttonunited.net
X-WR-CALDESC:Events for Sutton United Football Club
REFRESH-INTERVAL;VALUE=DURATION:PT1H
X-Robots-Tag:noindex
X-PUBLISHED-TTL:PT1H
BEGIN:VTIMEZONE
TZID:UTC
BEGIN:STANDARD
TZOFFSETFROM:+0000
TZOFFSETTO:+0000
TZNAME:UTC
DTSTART:20170101T000000
END:STANDARD
END:VTIMEZONE
BEGIN:VEVENT
DTSTART;TZID=UTC:20180120T123000
DTEND;TZID=UTC:20180120T150000
DTSTAMP:20260425T165055
CREATED:20180104T173235Z
LAST-MODIFIED:20180104T173235Z
UID:11378-1516451400-1516460400@www.suttonunited.net
SUMMARY:First team home game vs. Dagenham and Redbridge
DESCRIPTION:BT Sport cameras return to the Knight Community Stadium as U’s resume their Vanarama National League campaign –
URL:https://www.suttonunited.net/event/first-team-home-game-vs-dagenham-redbridge/
LOCATION:Knights Community Stadium\, Gander Green Lane\, London Borough of Sutton\, SM1 2EY\, United Kingdom
CATEGORIES:First Team Fixture
END:VEVENT
END:VCALENDAR