BEGIN:VCALENDAR
VERSION:2.0
PRODID:-//Sutton United Football Club - ECPv6.15.12.2//NONSGML v1.0//EN
CALSCALE:GREGORIAN
METHOD:PUBLISH
X-ORIGINAL-URL:https://www.suttonunited.net
X-WR-CALDESC:Events for Sutton United Football Club
REFRESH-INTERVAL;VALUE=DURATION:PT1H
X-Robots-Tag:noindex
X-PUBLISHED-TTL:PT1H
BEGIN:VTIMEZONE
TZID:UTC
BEGIN:STANDARD
TZOFFSETFROM:+0000
TZOFFSETTO:+0000
TZNAME:UTC
DTSTART:20170101T000000
END:STANDARD
END:VTIMEZONE
BEGIN:VEVENT
DTSTART;VALUE=DATE:20180527
DTEND;VALUE=DATE:20180528
DTSTAMP:20260420T044129
CREATED:20180219T192330Z
LAST-MODIFIED:20180219T192330Z
UID:12107-1527379200-1527465599@www.suttonunited.net
SUMMARY:The wheatsheaf Charity football match
DESCRIPTION:A Charity football match helping raise awareness for Prostate Cancer UK with all proceeds going to Charity.  Epsom & Ewell Old Boys FC vs. The Wheatsheaf FC \n  \nFood\, Bar\, Raffle and much more ! \n 
URL:https://www.suttonunited.net/event/wheatsheaf-charity-football-match/
LOCATION:Knights Community Stadium\, Gander Green Lane\, London Borough of Sutton\, SM1 2EY\, United Kingdom
CATEGORIES:Sutton Events
END:VEVENT
END:VCALENDAR