BEGIN:VCALENDAR
VERSION:2.0
PRODID:-//Sutton United Football Club - ECPv6.15.12.2//NONSGML v1.0//EN
CALSCALE:GREGORIAN
METHOD:PUBLISH
X-ORIGINAL-URL:https://www.suttonunited.net
X-WR-CALDESC:Events for Sutton United Football Club
REFRESH-INTERVAL;VALUE=DURATION:PT1H
X-Robots-Tag:noindex
X-PUBLISHED-TTL:PT1H
BEGIN:VTIMEZONE
TZID:UTC
BEGIN:STANDARD
TZOFFSETFROM:+0000
TZOFFSETTO:+0000
TZNAME:UTC
DTSTART:20170101T000000
END:STANDARD
END:VTIMEZONE
BEGIN:VEVENT
DTSTART;TZID=UTC:20180228T140000
DTEND;TZID=UTC:20180228T170000
DTSTAMP:20260422T061130
CREATED:20180105T150926Z
LAST-MODIFIED:20180105T150926Z
UID:11402-1519826400-1519837200@www.suttonunited.net
SUMMARY:Academy game vs.Dorking Wanderers
DESCRIPTION:Come watch the stars of the future in the National League Under 19 Alliance Division F
URL:https://www.suttonunited.net/event/academy-game-vs-dorking-wanderers/
LOCATION:Knights Community Stadium\, Gander Green Lane\, London Borough of Sutton\, SM1 2EY\, United Kingdom
CATEGORIES:Academy NFL game
ORGANIZER;CN="marvin":MAILTO:marvin@knightsltd.co.uk
END:VEVENT
END:VCALENDAR