BEGIN:VCALENDAR
VERSION:2.0
PRODID:-//Sutton United Football Club - ECPv6.15.12.2//NONSGML v1.0//EN
CALSCALE:GREGORIAN
METHOD:PUBLISH
X-ORIGINAL-URL:https://www.suttonunited.net
X-WR-CALDESC:Events for Sutton United Football Club
REFRESH-INTERVAL;VALUE=DURATION:PT1H
X-Robots-Tag:noindex
X-PUBLISHED-TTL:PT1H
BEGIN:VTIMEZONE
TZID:UTC
BEGIN:STANDARD
TZOFFSETFROM:+0000
TZOFFSETTO:+0000
TZNAME:UTC
DTSTART:20160101T000000
END:STANDARD
END:VTIMEZONE
BEGIN:VEVENT
DTSTART;TZID=UTC:20171208T193000
DTEND;TZID=UTC:20171208T230000
DTSTAMP:20260420T232815
CREATED:20171113T174738Z
LAST-MODIFIED:20171113T174809Z
UID:10325-1512761400-1512774000@www.suttonunited.net
SUMMARY:The Bohemians  play Queen
DESCRIPTION:The Bohemians \nplay Queen \n\n\nThe Bohemians are one of the UK’s most popular Queen tribute bands. \nEstablished in 1996\, the Bohemians re-enact the glory days of Queen including the Craziness of the 70’s and the Magic of the 80’s proving themselves to be the most dynamic and exciting Queen Tribute Band currently touring. \nThey have performed all over the UK\, Europe and the World at football stadiums\, festivals\, theatres and other prestigious venues. The Bohemians in their majestic magnificence receive standing ovations in response to their electrifying representation of a Queen Live Concert. \nRob Comber’s outrageous stage antics and personality makes him the perfect Freddie. Christopher Gregory’s Red Special enables him to get as close as possible to Brian May’s inimitable style. Wayne Bourne hammers the tubs like drummer Roger Taylor\, and Kevin Goodwin provides that unmistakable Queen backline on bass. \nTheir high-energy two hour show with full Staging\, Lighting\, Backdrops and Pyrotechnics has earned them the reputation of being the World’s most exciting Queen Tribute act. \nThe Bohemians set includes all the piano driven hit singles: ‘Killer Queen’; ‘Somebody To Love’; ‘Don’t Stop Me Now’; ‘You’re My Best Friend’; ‘We Are The Champions’ and the amazing award winning ‘Bohemian Rhapsody’. These hits are balanced with the Guitar led anthems; ‘Tie Your Mother Down’; ‘Hammer To Fall’; ‘One Vision’; ‘I Want It All’; ‘We Will Rock You’ and the Acoustic vocal tracks 39 and the unforgettable ‘Love of my Life’. The Bohemians ability to recreate Queen live is something truly special
URL:https://www.suttonunited.net/event/bohemians-play-queen/
LOCATION:Knights Community Stadium\, Gander Green Lane\, London Borough of Sutton\, SM1 2EY\, United Kingdom
END:VEVENT
END:VCALENDAR