BEGIN:VCALENDAR
VERSION:2.0
PRODID:-//Sutton United Football Club - ECPv6.15.12.2//NONSGML v1.0//EN
CALSCALE:GREGORIAN
METHOD:PUBLISH
X-ORIGINAL-URL:https://www.suttonunited.net
X-WR-CALDESC:Events for Sutton United Football Club
REFRESH-INTERVAL;VALUE=DURATION:PT1H
X-Robots-Tag:noindex
X-PUBLISHED-TTL:PT1H
BEGIN:VTIMEZONE
TZID:UTC
BEGIN:STANDARD
TZOFFSETFROM:+0000
TZOFFSETTO:+0000
TZNAME:UTC
DTSTART:20160101T000000
END:STANDARD
END:VTIMEZONE
BEGIN:VEVENT
DTSTART;TZID=UTC:20171209T150000
DTEND;TZID=UTC:20171209T170000
DTSTAMP:20260424T063349
CREATED:20171113T182951Z
LAST-MODIFIED:20171113T182951Z
UID:10348-1512831600-1512838800@www.suttonunited.net
SUMMARY:First team away fixture to Leyton Orient
DESCRIPTION:
URL:https://www.suttonunited.net/event/first-team-away-fixture-leyton-orient/
LOCATION:Leyton Orient Football club\, the Matchroom Stadium\, Brisbane Road\, Brisbane Rd\,\, London\, E10 5NFsutton\, United Kingdom
END:VEVENT
END:VCALENDAR