BEGIN:VCALENDAR
VERSION:2.0
PRODID:-//Sutton United Football Club - ECPv6.15.12.2//NONSGML v1.0//EN
CALSCALE:GREGORIAN
METHOD:PUBLISH
X-ORIGINAL-URL:https://www.suttonunited.net
X-WR-CALDESC:Events for Sutton United Football Club
REFRESH-INTERVAL;VALUE=DURATION:PT1H
X-Robots-Tag:noindex
X-PUBLISHED-TTL:PT1H
BEGIN:VTIMEZONE
TZID:UTC
BEGIN:STANDARD
TZOFFSETFROM:+0000
TZOFFSETTO:+0000
TZNAME:UTC
DTSTART:20160101T000000
END:STANDARD
END:VTIMEZONE
BEGIN:VEVENT
DTSTART;TZID=UTC:20171121T194500
DTEND;TZID=UTC:20171121T214500
DTSTAMP:20260422T102458
CREATED:20171113T181101Z
LAST-MODIFIED:20171113T181101Z
UID:10337-1511293500-1511300700@www.suttonunited.net
SUMMARY:First Team home match vs. Torquay United
DESCRIPTION:
URL:https://www.suttonunited.net/event/first-team-home-match-vs-torquay-united/
LOCATION:Knights Community Stadium\, Gander Green Lane\, London Borough of Sutton\, SM1 2EY\, United Kingdom
CATEGORIES:First Team Fixture
END:VEVENT
BEGIN:VEVENT
DTSTART;TZID=UTC:20171125T150000
DTEND;TZID=UTC:20171125T170000
DTSTAMP:20260422T102458
CREATED:20171113T181246Z
LAST-MODIFIED:20171113T181652Z
UID:10339-1511622000-1511629200@www.suttonunited.net
SUMMARY:First Team away Fixture at Guiseley
DESCRIPTION:
URL:https://www.suttonunited.net/event/first-team-away-fixture-guiseley/
LOCATION:Guiseley Football Club\, Nethermoor Park\, Otley Rd\, Leeds\, LS20 8BT\, United Kingdom
CATEGORIES:First Team Fixture
END:VEVENT
END:VCALENDAR