BEGIN:VCALENDAR
VERSION:2.0
PRODID:-//Sutton United Football Club - ECPv6.15.12.2//NONSGML v1.0//EN
CALSCALE:GREGORIAN
METHOD:PUBLISH
X-WR-CALNAME:Sutton United Football Club
X-ORIGINAL-URL:https://www.suttonunited.net
X-WR-CALDESC:Events for Sutton United Football Club
REFRESH-INTERVAL;VALUE=DURATION:PT1H
X-Robots-Tag:noindex
X-PUBLISHED-TTL:PT1H
BEGIN:VTIMEZONE
TZID:UTC
BEGIN:STANDARD
TZOFFSETFROM:+0000
TZOFFSETTO:+0000
TZNAME:UTC
DTSTART:20170101T000000
END:STANDARD
END:VTIMEZONE
BEGIN:VEVENT
DTSTART;TZID=UTC:20180908T150000
DTEND;TZID=UTC:20180908T170000
DTSTAMP:20260420T160957
CREATED:20180704T135921Z
LAST-MODIFIED:20180704T150548Z
UID:14490-1536418800-1536426000@www.suttonunited.net
SUMMARY:IRN BRU CUP GAME TBC
DESCRIPTION:
URL:https://www.suttonunited.net/event/first-team-national-league-home-fixture-to-boreham-wood/
LOCATION:Knights Community Stadium\, Gander Green Lane\, London Borough of Sutton\, SM1 2EY\, United Kingdom
CATEGORIES:First Team Fixture,IRN BRU CUP
END:VEVENT
BEGIN:VEVENT
DTSTART;TZID=UTC:20180922T150000
DTEND;TZID=UTC:20180922T170000
DTSTAMP:20260420T160957
CREATED:20180704T140423Z
LAST-MODIFIED:20180704T140425Z
UID:14494-1537628400-1537635600@www.suttonunited.net
SUMMARY:First Team National League Fixture Home to Wrexham
DESCRIPTION:
URL:https://www.suttonunited.net/event/first-team-national-league-fixture-home-to-wrexham/
LOCATION:Knights Community Stadium\, Gander Green Lane\, London Borough of Sutton\, SM1 2EY\, United Kingdom
CATEGORIES:First Team Fixture
END:VEVENT
BEGIN:VEVENT
DTSTART;TZID=UTC:20180925T150000
DTEND;TZID=UTC:20180925T170000
DTSTAMP:20260420T160957
CREATED:20180704T140659Z
LAST-MODIFIED:20180704T140659Z
UID:14496-1537887600-1537894800@www.suttonunited.net
SUMMARY:First team National League Fixture Home to Dover Athletic
DESCRIPTION:
URL:https://www.suttonunited.net/event/first-team-national-league-fixture-home-to-dover-athletic/
LOCATION:Knights Community Stadium\, Gander Green Lane\, London Borough of Sutton\, SM1 2EY\, United Kingdom
CATEGORIES:First Team Fixture
END:VEVENT
BEGIN:VEVENT
DTSTART;TZID=UTC:20180929T150000
DTEND;TZID=UTC:20180929T170000
DTSTAMP:20260420T160957
CREATED:20180704T140905Z
LAST-MODIFIED:20180704T140905Z
UID:14498-1538233200-1538240400@www.suttonunited.net
SUMMARY:First team National League Fixture Away to Leyton Orient
DESCRIPTION:
URL:https://www.suttonunited.net/event/first-team-national-league-fixture-away-to-leyton-orient/
LOCATION:Leyton Orient Football club\, the Matchroom Stadium\, Brisbane Road\, Brisbane Rd\,\, London\, E10 5NFsutton\, United Kingdom
CATEGORIES:First Team Fixture
END:VEVENT
END:VCALENDAR