BEGIN:VCALENDAR
VERSION:2.0
PRODID:-//Sutton United Football Club - ECPv6.15.12.2//NONSGML v1.0//EN
CALSCALE:GREGORIAN
METHOD:PUBLISH
X-WR-CALNAME:Sutton United Football Club
X-ORIGINAL-URL:https://www.suttonunited.net
X-WR-CALDESC:Events for Sutton United Football Club
REFRESH-INTERVAL;VALUE=DURATION:PT1H
X-Robots-Tag:noindex
X-PUBLISHED-TTL:PT1H
BEGIN:VTIMEZONE
TZID:UTC
BEGIN:STANDARD
TZOFFSETFROM:+0000
TZOFFSETTO:+0000
TZNAME:UTC
DTSTART:20170101T000000
END:STANDARD
END:VTIMEZONE
BEGIN:VEVENT
DTSTART;TZID=UTC:20180203T150000
DTEND;TZID=UTC:20180203T170000
DTSTAMP:20260425T024646
CREATED:20180122T122319Z
LAST-MODIFIED:20180122T122319Z
UID:11793-1517670000-1517677200@www.suttonunited.net
SUMMARY:FA Trophy Away match vs. Brackley Town F.C.
DESCRIPTION:Follow the U’s as they travel to Brackley Town in the Third round of this Prestigious tournament. \nTravel details to be added soon but if you are driving :- \nDirections to Brackley Town FC \nFrom the South (M40 & A43)\nFrom\, or crossing the M40 at Junction 10\, follow the A43 towards Northampton. (The road is a dual carriageway all the way to Brackley – 9 miles). At the large roundabout at the bottom of the hill as you approach the town\, take the 2nd exit signposted Brackley (South). \n* After approximately 100 metres\, take the 2nd exit at the mini roundabout (Tesco store on the left\, Mercedes / Petronas Formula One Racing on the right)\, and follow the road towards the town. The New Locomotive public house is almost immediately on the left hand side and Churchill Way is the next turning on the right as you go up the hill. (Signposted Football Club). Turn into Churchill Way and follow this road which leads directly into the Club car park. \nFrom the East (A422 Buckingham)\nFrom Buckingham\, follow the A422 to Brackley (8 miles). The A422 joins the A43 at a roundabout as you enter the town at the bottom of a hill. Take the first exit (signposted Oxford\, A43 & M40) and follow this dual carriageway for approximately three quarters of a mile. At the next roundabout\, take the last exit signposted Brackley (South). Then follow the directions marked * above. \nFrom the West (A422 Banbury & M40 Junction 11)\nLeave Banbury at the M40 junction 11 and follow the A422 (signposted Brackley). After approximately 8 miles go straight over the first small roundabout and follow the signs for the A43. About a mile further on the road passes a Tesco store on the left and almost immediately take the first exit at the roundabout signposted Brackley (South). Then follow the directions marked * above. \nFrom the North (A43 Northampton\, M1 and the A5)\nLeave the M1 at Junction 15A and follow the A43 South (signposted Oxford & M40). \nAfter approximately 8 miles the road crosses the A5 at a roundabout just outside Towcester. Follow the A43 past Silverstone to Brackley and at the first roundabout (BP garage)\, take the first exit (signposted A43\, Oxford & M40). At the second roundabout\, take the second exit (signposted A43\, Oxford & M40). At the third roundabout\, take the third exit (signposted Brackley\, South). Then follow the directions marked * above. \n 
URL:https://www.suttonunited.net/event/fa-trophy-away-match-vs-brackley-town-f-c/
LOCATION:Brackley Town FC\, St James Park\, Churchill Way\,\, Brackley\,\, Northamptonshire\,\, NN13 7EJ\, United Kingdom
END:VEVENT
END:VCALENDAR