BEGIN:VCALENDAR
VERSION:2.0
PRODID:-//Sutton United Football Club - ECPv6.15.12.2//NONSGML v1.0//EN
CALSCALE:GREGORIAN
METHOD:PUBLISH
X-ORIGINAL-URL:https://www.suttonunited.net
X-WR-CALDESC:Events for Sutton United Football Club
REFRESH-INTERVAL;VALUE=DURATION:PT1H
X-Robots-Tag:noindex
X-PUBLISHED-TTL:PT1H
BEGIN:VTIMEZONE
TZID:UTC
BEGIN:STANDARD
TZOFFSETFROM:+0000
TZOFFSETTO:+0000
TZNAME:UTC
DTSTART:20170101T000000
END:STANDARD
END:VTIMEZONE
BEGIN:VEVENT
DTSTART;TZID=UTC:20180227T194500
DTEND;TZID=UTC:20180227T214500
DTSTAMP:20260422T121657
CREATED:20180225T180401Z
LAST-MODIFIED:20180225T185445Z
UID:12214-1519760700-1519767900@www.suttonunited.net
SUMMARY:First team SSC cup home match vs. Merstham FC
DESCRIPTION:Reduced Price Entry !!! Support the Future as a mix of the first team and the Academy play Merstham in the 3rd round of the Surrey Senior Cup \n 
URL:https://www.suttonunited.net/event/first-team-ssc-cup-home-match-vs-merstham-fc/
LOCATION:Knights Community Stadium\, Gander Green Lane\, London Borough of Sutton\, SM1 2EY\, United Kingdom
CATEGORIES:First team Surrey Senior Cup
END:VEVENT
END:VCALENDAR