BEGIN:VCALENDAR
VERSION:2.0
PRODID:-//Sutton United Football Club - ECPv6.15.12.2//NONSGML v1.0//EN
CALSCALE:GREGORIAN
METHOD:PUBLISH
X-WR-CALNAME:Sutton United Football Club
X-ORIGINAL-URL:https://www.suttonunited.net
X-WR-CALDESC:Events for Sutton United Football Club
REFRESH-INTERVAL;VALUE=DURATION:PT1H
X-Robots-Tag:noindex
X-PUBLISHED-TTL:PT1H
BEGIN:VTIMEZONE
TZID:UTC
BEGIN:STANDARD
TZOFFSETFROM:+0000
TZOFFSETTO:+0000
TZNAME:UTC
DTSTART:20170101T000000
END:STANDARD
END:VTIMEZONE
BEGIN:VEVENT
DTSTART;TZID=UTC:20180108T194500
DTEND;TZID=UTC:20180108T214500
DTSTAMP:20260426T052557
CREATED:20171211T181103Z
LAST-MODIFIED:20171211T181103Z
UID:11088-1515440700-1515447900@www.suttonunited.net
SUMMARY:Surrey Senior Cup home match vs. Molesey
DESCRIPTION:Sutton United have a great history in the Surrey Senior Cup having won it 15 times before\, the last being 15 years ago !
URL:https://www.suttonunited.net/event/surrey-senior-cup-home-match-vs-molesey/
LOCATION:Knights Community Stadium\, Gander Green Lane\, London Borough of Sutton\, SM1 2EY\, United Kingdom
CATEGORIES:First team Surrey Senior Cup
END:VEVENT
END:VCALENDAR