BEGIN:VCALENDAR
VERSION:2.0
PRODID:-//Sutton United Football Club - ECPv6.15.12.2//NONSGML v1.0//EN
CALSCALE:GREGORIAN
METHOD:PUBLISH
X-ORIGINAL-URL:https://www.suttonunited.net
X-WR-CALDESC:Events for Sutton United Football Club
REFRESH-INTERVAL;VALUE=DURATION:PT1H
X-Robots-Tag:noindex
X-PUBLISHED-TTL:PT1H
BEGIN:VTIMEZONE
TZID:UTC
BEGIN:STANDARD
TZOFFSETFROM:+0000
TZOFFSETTO:+0000
TZNAME:UTC
DTSTART:20160101T000000
END:STANDARD
END:VTIMEZONE
BEGIN:VEVENT
DTSTART;TZID=UTC:20170925T194500
DTEND;TZID=UTC:20170925T210000
DTSTAMP:20260424T035239
CREATED:20170920T132624Z
LAST-MODIFIED:20170920T132624Z
UID:9448-1506368700-1506373200@www.suttonunited.net
SUMMARY:SYL Youth team vs Woking
DESCRIPTION:
URL:https://www.suttonunited.net/event/syl-youth-team-vs-woking/
LOCATION:Knights Community Stadium\, Gander Green Lane\, London Borough of Sutton\, SM1 2EY\, United Kingdom
CATEGORIES:SYL Youth Team game
END:VEVENT
BEGIN:VEVENT
DTSTART;TZID=UTC:20170929T193000
DTEND;TZID=UTC:20170929T230000
DTSTAMP:20260424T035239
CREATED:20170917T144843Z
LAST-MODIFIED:20170917T145719Z
UID:9409-1506713400-1506726000@www.suttonunited.net
SUMMARY:Boom Boom Club presents 'Sinnerboy' playing Rory Gallagher
DESCRIPTION:TRoryGallagherFestival2015 he band Sinnerboy are bringing the music of the legendary guitarist Rory Gallagher to your venue. \nRory Gallagher sadly passed away in 1995\, but had a huge impact on the world of blues and rock and is recognized as Ireland’s first real ”rock star”\, blazing the trail for many major Irish acts to follow on the international stage.\nApart from his reputation as one of the greatest ever exponents of the electric guitar\, Rory’s enduring musical legacy has received fresh recognition and attracted a new generation of younger fans over recent years. He was a prolific composer\, recording no fewer than fifteen albums of highly original soulful blues and blazing rock material.
URL:https://www.suttonunited.net/event/sinnerboy-play-rory-gallagher/
LOCATION:Knights Community Stadium\, Gander Green Lane\, London Borough of Sutton\, SM1 2EY\, United Kingdom
CATEGORIES:Boom Boom Club
END:VEVENT
END:VCALENDAR