BEGIN:VCALENDAR
VERSION:2.0
PRODID:-//Sutton United Football Club - ECPv6.15.12.2//NONSGML v1.0//EN
CALSCALE:GREGORIAN
METHOD:PUBLISH
X-WR-CALNAME:Sutton United Football Club
X-ORIGINAL-URL:https://www.suttonunited.net
X-WR-CALDESC:Events for Sutton United Football Club
REFRESH-INTERVAL;VALUE=DURATION:PT1H
X-Robots-Tag:noindex
X-PUBLISHED-TTL:PT1H
BEGIN:VTIMEZONE
TZID:UTC
BEGIN:STANDARD
TZOFFSETFROM:+0000
TZOFFSETTO:+0000
TZNAME:UTC
DTSTART:20170101T000000
END:STANDARD
END:VTIMEZONE
BEGIN:VEVENT
DTSTART;TZID=UTC:20180714T150000
DTEND;TZID=UTC:20180714T170000
DTSTAMP:20260420T024811
CREATED:20180701T160454Z
LAST-MODIFIED:20180701T160454Z
UID:14419-1531580400-1531587600@www.suttonunited.net
SUMMARY:Sutton United v Woking FC as the new season gets closer
DESCRIPTION:  \nWe welcome a revitalised Woking to Gander Green Lane as we prepare for the season ahead.
URL:https://www.suttonunited.net/event/sutton-united-v-woking-fc-as-the-new-season-gets-closer/
LOCATION:Knights Community Stadium\, Gander Green Lane\, London Borough of Sutton\, SM1 2EY\, United Kingdom
CATEGORIES:First Team Friendly
ATTACH;FMTTYPE=image/jpeg:https://www.suttonunited.net/wp-content/uploads/2018/06/Norwich-City-Friendly-2.jpg
END:VEVENT
END:VCALENDAR