BEGIN:VCALENDAR
VERSION:2.0
PRODID:-//Sutton United Football Club - ECPv6.15.12.2//NONSGML v1.0//EN
CALSCALE:GREGORIAN
METHOD:PUBLISH
X-WR-CALNAME:Sutton United Football Club
X-ORIGINAL-URL:https://www.suttonunited.net
X-WR-CALDESC:Events for Sutton United Football Club
REFRESH-INTERVAL;VALUE=DURATION:PT1H
X-Robots-Tag:noindex
X-PUBLISHED-TTL:PT1H
BEGIN:VTIMEZONE
TZID:UTC
BEGIN:STANDARD
TZOFFSETFROM:+0000
TZOFFSETTO:+0000
TZNAME:UTC
DTSTART:20170101T000000
END:STANDARD
END:VTIMEZONE
BEGIN:VEVENT
DTSTART;TZID=UTC:20180707T130000
DTEND;TZID=UTC:20180707T170000
DTSTAMP:20260421T222654
CREATED:20180701T155715Z
LAST-MODIFIED:20180704T130821Z
UID:14417-1530968400-1530982800@www.suttonunited.net
SUMMARY:Sutton United welcome Coventry City & show the England Match in their new bar
DESCRIPTION:Sutton’s pre-season schedule will begin in attractive style on Saturday 7th July (kick off 1pm) with a home game against Coventry City\, who last week secured promotion back to League One after beating Exeter City in the play-off final at Wembley. It will be the second consecutive season in which Coventry have played at the Knights Community Stadium\, with the Sky Blues winning by the only goal a year ago\, following the transfer last summer of Max Biamou\, who played a key role in Coventry’s success last month\, scoring twice in the second leg semi-final victory at Notts County.  PLUS  we will be opening the new refurbished Bars with new 65′ TVs so stay and watch England in the World Cup.
URL:https://www.suttonunited.net/event/sutton-united-welcome-coventry-city-for-their-first-friendly-game/
LOCATION:Knights Community Stadium\, Gander Green Lane\, London Borough of Sutton\, SM1 2EY\, United Kingdom
CATEGORIES:First Team Friendly
ATTACH;FMTTYPE=image/jpeg:https://www.suttonunited.net/wp-content/uploads/2018/07/Coventry-City-landscape-1.jpg
END:VEVENT
END:VCALENDAR