BEGIN:VCALENDAR
VERSION:2.0
PRODID:-//Sutton United Football Club - ECPv6.15.12.2//NONSGML v1.0//EN
CALSCALE:GREGORIAN
METHOD:PUBLISH
X-WR-CALNAME:Sutton United Football Club
X-ORIGINAL-URL:https://www.suttonunited.net
X-WR-CALDESC:Events for Sutton United Football Club
REFRESH-INTERVAL;VALUE=DURATION:PT1H
X-Robots-Tag:noindex
X-PUBLISHED-TTL:PT1H
BEGIN:VTIMEZONE
TZID:UTC
BEGIN:STANDARD
TZOFFSETFROM:+0000
TZOFFSETTO:+0000
TZNAME:UTC
DTSTART:20160101T000000
END:STANDARD
END:VTIMEZONE
BEGIN:VEVENT
DTSTART;VALUE=DATE:20170723
DTEND;VALUE=DATE:20170724
DTSTAMP:20260423T060130
CREATED:20170709T160722Z
LAST-MODIFIED:20170709T160722Z
UID:8422-1500768000-1500854399@www.suttonunited.net
SUMMARY:Sufc Youth U11 & U12 tournament
DESCRIPTION:
URL:https://www.suttonunited.net/event/sufc-youth-u11-u12-tournament/
LOCATION:Knights Community Stadium\, Gander Green Lane\, London Borough of Sutton\, SM1 2EY\, United Kingdom
CATEGORIES:JD sports event
ORGANIZER;CN="JD sports":MAILTO:Jamie@jdsfootballschool.co.uk
END:VEVENT
END:VCALENDAR